BEGIN:VCALENDAR
VERSION:2.0
PRODID:-//National Black Catholic Congress Website - ECPv6.15.20//NONSGML v1.0//EN
CALSCALE:GREGORIAN
METHOD:PUBLISH
X-ORIGINAL-URL:https://nbccongress.org
X-WR-CALDESC:Events for National Black Catholic Congress Website
REFRESH-INTERVAL;VALUE=DURATION:PT1H
X-Robots-Tag:noindex
X-PUBLISHED-TTL:PT1H
BEGIN:VTIMEZONE
TZID:America/New_York
BEGIN:DAYLIGHT
TZOFFSETFROM:-0500
TZOFFSETTO:-0400
TZNAME:EDT
DTSTART:20250309T070000
END:DAYLIGHT
BEGIN:STANDARD
TZOFFSETFROM:-0400
TZOFFSETTO:-0500
TZNAME:EST
DTSTART:20251102T060000
END:STANDARD
BEGIN:DAYLIGHT
TZOFFSETFROM:-0500
TZOFFSETTO:-0400
TZNAME:EDT
DTSTART:20260308T070000
END:DAYLIGHT
BEGIN:STANDARD
TZOFFSETFROM:-0400
TZOFFSETTO:-0500
TZNAME:EST
DTSTART:20261101T060000
END:STANDARD
BEGIN:DAYLIGHT
TZOFFSETFROM:-0500
TZOFFSETTO:-0400
TZNAME:EDT
DTSTART:20270314T070000
END:DAYLIGHT
BEGIN:STANDARD
TZOFFSETFROM:-0400
TZOFFSETTO:-0500
TZNAME:EST
DTSTART:20271107T060000
END:STANDARD
END:VTIMEZONE
BEGIN:VEVENT
DTSTART;VALUE=DATE:20260419
DTEND;VALUE=DATE:20260428
DTSTAMP:20260423T211154
CREATED:20260204T201213Z
LAST-MODIFIED:20260204T201213Z
UID:10000506-1776556800-1777334399@nbccongress.org
SUMMARY:Footsteps of Jesus
DESCRIPTION:Travel the Footsteps of Jesus with Deacon Harold Burke-Sivers. \nWatch the Gospels come alive as we set out on this true pilgrimage of faith and follow the life of Jesus in a deeply personal way. From his younger days in Nazareth and his public ministry in the Galilee\, to his passion\, death and resurrection in Jerusalem\, prepare to be deeply moved\, as we create memories for a lifetime. \nWatch my Video Invite Here
URL:https://nbccongress.org/event/footsteps-of-jesus/
ATTACH;FMTTYPE=image/png:https://nbccongress.org/wp-content/uploads/2026/02/Screenshot-2026-02-03-at-4.00.39-pm-scaled-e1770235926611.png
END:VEVENT
BEGIN:VEVENT
DTSTART;VALUE=DATE:20260511
DTEND;VALUE=DATE:20260519
DTSTAMP:20260423T211154
CREATED:20260204T201625Z
LAST-MODIFIED:20260204T201625Z
UID:10000507-1778457600-1779148799@nbccongress.org
SUMMARY:Our Lady of Guadalupe Pilgrimage with Deacon Harold
DESCRIPTION:A Journey of Courage\, Witness & Hope \n\n\n\n\n\n\n“¡Viva Cristo Rey!” – Long Live Christ the King! These were the final defiant words shouted by countless Mexican martyrs who gave their lives rather than deny their faith during one of the darkest chapters in Catholic history – the Cristero War. \nOn this sacred pilgrimage\, we walk in the footsteps of these heroic witnesses\, men\, women\, and children who stood against violent persecution\, proclaiming the kingship of Christ and the maternal protection of Our Lady of Guadalupe. Their sacrifice reminds us of the cost of discipleship and the call to courage in our own lives.
URL:https://nbccongress.org/event/our-lady-of-guadalupe-pilgrimage-with-deacon-harold/
ATTACH;FMTTYPE=image/png:https://nbccongress.org/wp-content/uploads/2026/02/Screenshot-2026-02-03-at-4.08.57-pm-scaled-e1770236168661.png
END:VEVENT
END:VCALENDAR