BEGIN:VCALENDAR
VERSION:2.0
PRODID:-//National Black Catholic Congress Website - ECPv6.15.20//NONSGML v1.0//EN
CALSCALE:GREGORIAN
METHOD:PUBLISH
X-WR-CALNAME:National Black Catholic Congress Website
X-ORIGINAL-URL:https://nbccongress.org
X-WR-CALDESC:Events for National Black Catholic Congress Website
REFRESH-INTERVAL;VALUE=DURATION:PT1H
X-Robots-Tag:noindex
X-PUBLISHED-TTL:PT1H
BEGIN:VTIMEZONE
TZID:America/New_York
BEGIN:DAYLIGHT
TZOFFSETFROM:-0500
TZOFFSETTO:-0400
TZNAME:EDT
DTSTART:20250309T070000
END:DAYLIGHT
BEGIN:STANDARD
TZOFFSETFROM:-0400
TZOFFSETTO:-0500
TZNAME:EST
DTSTART:20251102T060000
END:STANDARD
BEGIN:DAYLIGHT
TZOFFSETFROM:-0500
TZOFFSETTO:-0400
TZNAME:EDT
DTSTART:20260308T070000
END:DAYLIGHT
BEGIN:STANDARD
TZOFFSETFROM:-0400
TZOFFSETTO:-0500
TZNAME:EST
DTSTART:20261101T060000
END:STANDARD
BEGIN:DAYLIGHT
TZOFFSETFROM:-0500
TZOFFSETTO:-0400
TZNAME:EDT
DTSTART:20270314T070000
END:DAYLIGHT
BEGIN:STANDARD
TZOFFSETFROM:-0400
TZOFFSETTO:-0500
TZNAME:EST
DTSTART:20271107T060000
END:STANDARD
END:VTIMEZONE
BEGIN:VEVENT
DTSTART;VALUE=DATE:20260530
DTEND;VALUE=DATE:20260531
DTSTAMP:20260421T083226
CREATED:20260316T135142Z
LAST-MODIFIED:20260316T135254Z
UID:10000573-1780099200-1780185599@nbccongress.org
SUMMARY:Go\, Make Disciples Go\, Make Disciples: An Introductory Training in Missionary Discipleship
DESCRIPTION:9:00 AM-12:00 PM (Mass available at 8 AM in the Newman Center Chapel) \nSATURDAY\, MAY 30\nFriendship with God \nSATURDAY\, JUNE 6\nSkills for Accompanying Others to Faith \nSATURDAY\, JUNE 13\nHow to Share the Gospel \nParticipants attend all three sessions. \nTemple Newman Center: 2129 N. Broad St.\, Philadelphia\, PA 19122\nStreet parking available on Park Ave. \nFACILITATORS:\nFr. Matthew Biedrzycki\, St. Malachy Parish \nFor information: Meghan Cokeley\, Office for the New Evangelization\, mcokeley@archphila.org\nor Stacy Williams\, Office for Black Catholics  swilliams@archphila.org. \nRegister at: PHILLYEVANG.ORG/EVENTS\nRegistration includes coffee\, snacks and guidebook. \nREGISTRATION General admission $25. $15 for St. Malachy parishioners using discount code MALACHY (all caps).
URL:https://nbccongress.org/event/go-make-disciples-go-make-disciples-an-introductory-training-in-missionary-discipleship/2026-05-30/
LOCATION:Temple Newman Center\, 2129 N. Broad St.\, Philadelphia\, PA\, 19122\, United States
ATTACH;FMTTYPE=image/png:https://nbccongress.org/wp-content/uploads/2026/03/1773667913126-83db5216-8fdb-4d03-b6f3-cecde3349ac1-Malachy_1-e1773668628700.png
END:VEVENT
BEGIN:VEVENT
DTSTART;VALUE=DATE:20260606
DTEND;VALUE=DATE:20260607
DTSTAMP:20260421T083226
CREATED:20260316T135142Z
LAST-MODIFIED:20260316T135254Z
UID:10000574-1780704000-1780790399@nbccongress.org
SUMMARY:Go\, Make Disciples Go\, Make Disciples: An Introductory Training in Missionary Discipleship
DESCRIPTION:9:00 AM-12:00 PM (Mass available at 8 AM in the Newman Center Chapel) \nSATURDAY\, MAY 30\nFriendship with God \nSATURDAY\, JUNE 6\nSkills for Accompanying Others to Faith \nSATURDAY\, JUNE 13\nHow to Share the Gospel \nParticipants attend all three sessions. \nTemple Newman Center: 2129 N. Broad St.\, Philadelphia\, PA 19122\nStreet parking available on Park Ave. \nFACILITATORS:\nFr. Matthew Biedrzycki\, St. Malachy Parish \nFor information: Meghan Cokeley\, Office for the New Evangelization\, mcokeley@archphila.org\nor Stacy Williams\, Office for Black Catholics  swilliams@archphila.org. \nRegister at: PHILLYEVANG.ORG/EVENTS\nRegistration includes coffee\, snacks and guidebook. \nREGISTRATION General admission $25. $15 for St. Malachy parishioners using discount code MALACHY (all caps).
URL:https://nbccongress.org/event/go-make-disciples-go-make-disciples-an-introductory-training-in-missionary-discipleship/2026-06-06/
LOCATION:Temple Newman Center\, 2129 N. Broad St.\, Philadelphia\, PA\, 19122\, United States
ATTACH;FMTTYPE=image/png:https://nbccongress.org/wp-content/uploads/2026/03/1773667913126-83db5216-8fdb-4d03-b6f3-cecde3349ac1-Malachy_1-e1773668628700.png
END:VEVENT
BEGIN:VEVENT
DTSTART;VALUE=DATE:20260613
DTEND;VALUE=DATE:20260614
DTSTAMP:20260421T083226
CREATED:20260316T135142Z
LAST-MODIFIED:20260316T135254Z
UID:10000575-1781308800-1781395199@nbccongress.org
SUMMARY:Go\, Make Disciples Go\, Make Disciples: An Introductory Training in Missionary Discipleship
DESCRIPTION:9:00 AM-12:00 PM (Mass available at 8 AM in the Newman Center Chapel) \nSATURDAY\, MAY 30\nFriendship with God \nSATURDAY\, JUNE 6\nSkills for Accompanying Others to Faith \nSATURDAY\, JUNE 13\nHow to Share the Gospel \nParticipants attend all three sessions. \nTemple Newman Center: 2129 N. Broad St.\, Philadelphia\, PA 19122\nStreet parking available on Park Ave. \nFACILITATORS:\nFr. Matthew Biedrzycki\, St. Malachy Parish \nFor information: Meghan Cokeley\, Office for the New Evangelization\, mcokeley@archphila.org\nor Stacy Williams\, Office for Black Catholics  swilliams@archphila.org. \nRegister at: PHILLYEVANG.ORG/EVENTS\nRegistration includes coffee\, snacks and guidebook. \nREGISTRATION General admission $25. $15 for St. Malachy parishioners using discount code MALACHY (all caps).
URL:https://nbccongress.org/event/go-make-disciples-go-make-disciples-an-introductory-training-in-missionary-discipleship/2026-06-13/
LOCATION:Temple Newman Center\, 2129 N. Broad St.\, Philadelphia\, PA\, 19122\, United States
ATTACH;FMTTYPE=image/png:https://nbccongress.org/wp-content/uploads/2026/03/1773667913126-83db5216-8fdb-4d03-b6f3-cecde3349ac1-Malachy_1-e1773668628700.png
END:VEVENT
END:VCALENDAR