BEGIN:VCALENDAR
VERSION:2.0
PRODID:-//National Black Catholic Congress Website - ECPv6.15.20//NONSGML v1.0//EN
CALSCALE:GREGORIAN
METHOD:PUBLISH
X-ORIGINAL-URL:https://nbccongress.org
X-WR-CALDESC:Events for National Black Catholic Congress Website
REFRESH-INTERVAL;VALUE=DURATION:PT1H
X-Robots-Tag:noindex
X-PUBLISHED-TTL:PT1H
BEGIN:VTIMEZONE
TZID:America/New_York
BEGIN:DAYLIGHT
TZOFFSETFROM:-0500
TZOFFSETTO:-0400
TZNAME:EDT
DTSTART:20250309T070000
END:DAYLIGHT
BEGIN:STANDARD
TZOFFSETFROM:-0400
TZOFFSETTO:-0500
TZNAME:EST
DTSTART:20251102T060000
END:STANDARD
BEGIN:DAYLIGHT
TZOFFSETFROM:-0500
TZOFFSETTO:-0400
TZNAME:EDT
DTSTART:20260308T070000
END:DAYLIGHT
BEGIN:STANDARD
TZOFFSETFROM:-0400
TZOFFSETTO:-0500
TZNAME:EST
DTSTART:20261101T060000
END:STANDARD
BEGIN:DAYLIGHT
TZOFFSETFROM:-0500
TZOFFSETTO:-0400
TZNAME:EDT
DTSTART:20270314T070000
END:DAYLIGHT
BEGIN:STANDARD
TZOFFSETFROM:-0400
TZOFFSETTO:-0500
TZNAME:EST
DTSTART:20271107T060000
END:STANDARD
BEGIN:DAYLIGHT
TZOFFSETFROM:-0500
TZOFFSETTO:-0400
TZNAME:EDT
DTSTART:20280312T070000
END:DAYLIGHT
BEGIN:STANDARD
TZOFFSETFROM:-0400
TZOFFSETTO:-0500
TZNAME:EST
DTSTART:20281105T060000
END:STANDARD
END:VTIMEZONE
BEGIN:VEVENT
DTSTART;VALUE=DATE:20260419
DTEND;VALUE=DATE:20260428
DTSTAMP:20260419T143718
CREATED:20260204T201213Z
LAST-MODIFIED:20260204T201213Z
UID:10000506-1776556800-1777334399@nbccongress.org
SUMMARY:Footsteps of Jesus
DESCRIPTION:Travel the Footsteps of Jesus with Deacon Harold Burke-Sivers. \nWatch the Gospels come alive as we set out on this true pilgrimage of faith and follow the life of Jesus in a deeply personal way. From his younger days in Nazareth and his public ministry in the Galilee\, to his passion\, death and resurrection in Jerusalem\, prepare to be deeply moved\, as we create memories for a lifetime. \nWatch my Video Invite Here
URL:https://nbccongress.org/event/footsteps-of-jesus/
LOCATION:DC
ATTACH;FMTTYPE=image/png:https://nbccongress.org/wp-content/uploads/2026/02/Screenshot-2026-02-03-at-4.00.39-pm-scaled-e1770235926611.png
END:VEVENT
BEGIN:VEVENT
DTSTART;TZID=America/New_York:20260420T190000
DTEND;TZID=America/New_York:20260420T200000
DTSTAMP:20260419T143718
CREATED:20260409T185522Z
LAST-MODIFIED:20260409T185522Z
UID:10000578-1776711600-1776715200@nbccongress.org
SUMMARY:St. Michael's Center Free Online Deliverance Session
DESCRIPTION:Monsignor Rossetti will lead our next livestreamed deliverance session on Monday\, Apr 20th from 7:00-8:00pm Eastern Time.\nRosary starts at: 6:30pm.   \n\nWhat is an online deliverance session? Click here to learn more: https://www.youtube.com/watch?v=_xBuI52yaL4
URL:https://nbccongress.org/event/st-michaels-center-free-online-deliverance-session/
LOCATION:Virtual Event
ATTACH;FMTTYPE=image/png:https://nbccongress.org/wp-content/uploads/2026/04/Copy-of-Copy-of-Prayer-to-Protect-Faculties-copy.png
END:VEVENT
BEGIN:VEVENT
DTSTART;TZID=America/New_York:20260420T190000
DTEND;TZID=America/New_York:20260420T204000
DTSTAMP:20260419T143719
CREATED:20250506T202626Z
LAST-MODIFIED:20250506T202654Z
UID:10000277-1776711600-1776717600@nbccongress.org
SUMMARY:ORACLE Bible Study on Zoom
DESCRIPTION:Sr. Dr. Oralisa Martin joined by Msgr. East (Week 3) is doing an ORACLE Bible Study on ZOOM based on Scripture and the teachings of the Church. The ORACLE Bible Study is a 5-session series taught weekly from June 2nd to July 1st from 7PM to 8:40PM. Join us in prayer meditations\, teachings\, and discussions. Registrants have schedule and fee options: Choose a Monday or Tuesday each week at $25 per session. To register visit: www.oraclereligious.com or call 1-202-528-8633. \nPURPOSES: \nThe purposes of the ORACLE Bible Study are to: \n1. Teach the basic tenets of the Christian faith\, \n2. Bring clarity to Christian doctrine that people just accept and celebrate in church rituals\, \n3. Enable Catholics to grow in their faith by providing spiritual food for the soul: “Man does not live on bread alone\, but on every Word that comes from the mouth of God.” (Matt. 4:4 and cf. Deut. 8:3) \n4. Empower Catholics to live in an ongoing relationship with the Triune God. \n5. Express such a relationship through praying\, witnessing\, and serving.
URL:https://nbccongress.org/event/9047/2026-04-20/
LOCATION:DC
ATTACH;FMTTYPE=application/pdf:https://nbccongress.org/wp-content/uploads/2025/05/A1.-Flyer-The-ORACLE-BIBLE-STUDY.pdf
END:VEVENT
BEGIN:VEVENT
DTSTART;TZID=America/New_York:20260420T203000
DTEND;TZID=America/New_York:20260420T210000
DTSTAMP:20260419T143719
CREATED:20260302T151135Z
LAST-MODIFIED:20260302T151135Z
UID:10000520-1776717000-1776718800@nbccongress.org
SUMMARY:Mondays in Lent: Pax Christi USA community weekly Lenten prayer service
DESCRIPTION:Mondays in Lent: Pax Christi USA community weekly Lenten prayer service – Pax Christi USA invites all to join in a 30-minute prayer service\, 8:30-9 PM Eastern\, each Monday in Lent: February 23\, March 2\, March 9\, March 16\, March 23\, and March 30. Click on this link to register with Zoom — you only need to register once in order to participate each week. We will add videos and programs of prayer services. \n\n\n\nWatch the recordings of each week’s service on our YouTube page here.
URL:https://nbccongress.org/event/mondays-in-lent-pax-christi-usa-community-weekly-lenten-prayer-service/2026-04-20/
LOCATION:Zoom Online Session
ATTACH;FMTTYPE=image/png:https://nbccongress.org/wp-content/uploads/2026/03/Lent-Monday-Prayer.png
END:VEVENT
BEGIN:VEVENT
DTSTART;TZID=America/New_York:20260422T190000
DTEND;TZID=America/New_York:20260422T200000
DTSTAMP:20260419T143719
CREATED:20260416T132236Z
LAST-MODIFIED:20260416T132306Z
UID:10000579-1776884400-1776888000@nbccongress.org
SUMMARY:The Crisis of Connection: Strengthening Faith and Relationships
DESCRIPTION:This Salt and Light Gathering is for young Catholics and others to come together to explore key issues and personal stories involving faith and public life with respected leaders. \nHow can we navigate this crisis of connection to live with faith\, hope\, purpose\, and meaning? How can we resist the cultural trends of detachment and isolation to foster genuine relationships in our personal lives? How can we build community and live out principles of human dignity and solidarity to repair divisions between young men and women? \nThis Salt and Light Gathering for young adults will bring together four leaders to understand this generational crisis of connection and how young people can cultivate authentic community and live faithfully\, act on our beliefs\, and encounter one another\, leading to participation rather than isolation. \nChristopher White\, associate director of the Initiative on Catholic Social Thought and Public Life\, will moderate the conversation. \nThis gathering will have three parts: \n6:00 – 7:00 p.m. | Happy Hour\nMeet and network with other young leaders over food and drink \n7:00 – 8:00 p.m. | Dialogue\nA conversation on “The Crisis of Connection: Strengthening Faith and Relationships” with four leaders \n8:00 – 9:00 p.m. | Reception\nContinue the conversation with other young leaders \nRecording and Accessibility​\nFor those who cannot join us in person\, the dialogue will be livestreamed\, starting at 7:00 p.m. EDT\, and posted online for later viewing. \nAll in-person accommodation requests should be sent to cathsocialthought@georgetown.edu by Friday\, April 17. A good-faith effort will be made to fulfill requests.
URL:https://nbccongress.org/event/the-crisis-of-connection-strengthening-faith-and-relationships/
LOCATION:McCourt School of Public Policy\, 125 E Street NW\, Capitol View Event Convening Space (9th Floor)\, Washington\, DC\, 20001\, United States
ATTACH;FMTTYPE=image/jpeg:https://nbccongress.org/wp-content/uploads/2026/04/Crisis_of_Connection_1440x1080.jpg
END:VEVENT
BEGIN:VEVENT
DTSTART;VALUE=DATE:20260511
DTEND;VALUE=DATE:20260519
DTSTAMP:20260419T143719
CREATED:20260204T201625Z
LAST-MODIFIED:20260204T201625Z
UID:10000507-1778457600-1779148799@nbccongress.org
SUMMARY:Our Lady of Guadalupe Pilgrimage with Deacon Harold
DESCRIPTION:A Journey of Courage\, Witness & Hope \n\n\n\n\n\n\n“¡Viva Cristo Rey!” – Long Live Christ the King! These were the final defiant words shouted by countless Mexican martyrs who gave their lives rather than deny their faith during one of the darkest chapters in Catholic history – the Cristero War. \nOn this sacred pilgrimage\, we walk in the footsteps of these heroic witnesses\, men\, women\, and children who stood against violent persecution\, proclaiming the kingship of Christ and the maternal protection of Our Lady of Guadalupe. Their sacrifice reminds us of the cost of discipleship and the call to courage in our own lives.
URL:https://nbccongress.org/event/our-lady-of-guadalupe-pilgrimage-with-deacon-harold/
LOCATION:DC
ATTACH;FMTTYPE=image/png:https://nbccongress.org/wp-content/uploads/2026/02/Screenshot-2026-02-03-at-4.08.57-pm-scaled-e1770236168661.png
END:VEVENT
BEGIN:VEVENT
DTSTART;VALUE=DATE:20260511
DTEND;VALUE=DATE:20260523
DTSTAMP:20260419T143719
CREATED:20251110T161402Z
LAST-MODIFIED:20251110T161402Z
UID:10000471-1778457600-1779494399@nbccongress.org
SUMMARY:Theology of the Body and Spiritual Direction: The Art of Accompaniment Online
DESCRIPTION:This course explores various aspects of the theory and practice of spiritual direction. Spiritual direction is an art that allows many approaches. What is unique about spiritual direction is that it is a relationship that focuses on the one-on-one relationship of the directee with God.  Our one-on-one relationship with God began and is seen in original man\, in his original solitude with God and is the foundation of every other relationship.  Through the wounds inflicted by sin\, historical man struggles to live fully from that relationship. The relationship of vulnerability with a spiritual director or a deeply trusted friend can help us move towards our destiny as eschatological man\, when that relationship is fully healed and brought to its ultimate spousal consummation with Christ.  The spiritual director supports the directee in traveling a way of prayer\, purification and illumination until arriving finally at transforming union with God. \n\n\nFr. Boniface Hicks\, OSB\, is a Benedictine monk of St. Vincent Archabbey in Latrobe\, Pennsylvania. He has provided spiritual direction for many men and women\, including married couples\, seminarians\, consecrated religious\, and priests\, even while completing his Ph.D in computer science at Penn State University. He became the programming manager and an on-air contributor for We Are One Body Catholic Radio in 2010 and has recorded thousands of radio programs on theology and the spiritual life. He has extensive experience as a retreat master for laity\, consecrated religious\, and priests. He became the Director for Spiritual Formation for Saint Vincent Seminary in 2016 and Director of the Institute for Ministry Formation at Saint Vincent Seminary in 2019 and has offered many courses on spiritual direction and the spiritual life. He completed the STL program at Sacred Heart Seminary on the New Evangelization in April 2023. He is author of The Fruit of Her Womb\, published by Sophia Institute Press\, as well as Through the Heart of St. Joseph and together with Fr. Thomas Acklin\, OSB he is author of the book Spiritual Direction: A Guide for Sharing the Father’s Love and Personal Prayer: A Guide for Receiving the Father’s Love\, all published by Emmaus Road Publishing.
URL:https://nbccongress.org/event/theology-of-the-body-and-spiritual-direction-the-art-of-accompaniment-online/
LOCATION:Online Event
ATTACH;FMTTYPE=image/png:https://nbccongress.org/wp-content/uploads/2025/11/TOB-Accompaniment-e1762790939762.png
END:VEVENT
BEGIN:VEVENT
DTSTART;VALUE=DATE:20260530
DTEND;VALUE=DATE:20260531
DTSTAMP:20260419T143719
CREATED:20260316T135142Z
LAST-MODIFIED:20260316T135254Z
UID:10000573-1780099200-1780185599@nbccongress.org
SUMMARY:Go\, Make Disciples Go\, Make Disciples: An Introductory Training in Missionary Discipleship
DESCRIPTION:9:00 AM-12:00 PM (Mass available at 8 AM in the Newman Center Chapel) \nSATURDAY\, MAY 30\nFriendship with God \nSATURDAY\, JUNE 6\nSkills for Accompanying Others to Faith \nSATURDAY\, JUNE 13\nHow to Share the Gospel \nParticipants attend all three sessions. \nTemple Newman Center: 2129 N. Broad St.\, Philadelphia\, PA 19122\nStreet parking available on Park Ave. \nFACILITATORS:\nFr. Matthew Biedrzycki\, St. Malachy Parish \nFor information: Meghan Cokeley\, Office for the New Evangelization\, mcokeley@archphila.org\nor Stacy Williams\, Office for Black Catholics  swilliams@archphila.org. \nRegister at: PHILLYEVANG.ORG/EVENTS\nRegistration includes coffee\, snacks and guidebook. \nREGISTRATION General admission $25. $15 for St. Malachy parishioners using discount code MALACHY (all caps).
URL:https://nbccongress.org/event/go-make-disciples-go-make-disciples-an-introductory-training-in-missionary-discipleship/2026-05-30/
LOCATION:Temple Newman Center\, 2129 N. Broad St.\, Philadelphia\, PA\, 19122\, United States
ATTACH;FMTTYPE=image/png:https://nbccongress.org/wp-content/uploads/2026/03/1773667913126-83db5216-8fdb-4d03-b6f3-cecde3349ac1-Malachy_1-e1773668628700.png
END:VEVENT
BEGIN:VEVENT
DTSTART;VALUE=DATE:20260627
DTEND;VALUE=DATE:20260628
DTSTAMP:20260419T143719
CREATED:20260330T130656Z
LAST-MODIFIED:20260330T130656Z
UID:10000577-1782518400-1782604799@nbccongress.org
SUMMARY:Biking for Babies
DESCRIPTION:Renewing the culture of life\, one young adult and one pregnancy resource center at a time. \nThe Philly Ride for Life will take place on Saturday\, June 27\nLike you\, we want to give bold witness to the goodness of human life. Join the Philly Ride for Life and become a joyful advocate for human dignity through Christian formation\, pregnancy center support\, and charitable cycling. \nHow Can You Help?\nRegister\, get details\, or donate here: bikingforbabies.com/events \nwww.BikingforBabies.com
URL:https://nbccongress.org/event/biking-for-babies/
LOCATION:Sts. Philip and James Parish\, 723 Lincoln Hwy\, Exton\, PA\, 19341\, United States
ATTACH;FMTTYPE=image/png:https://nbccongress.org/wp-content/uploads/2026/03/80c188f4-d387-4dbb-8403-6996d3510473-e1774875809728.png
END:VEVENT
BEGIN:VEVENT
DTSTART;VALUE=DATE:20260628
DTEND;VALUE=DATE:20260718
DTSTAMP:20260419T143719
CREATED:20260107T163939Z
LAST-MODIFIED:20260107T163939Z
UID:10000491-1782604800-1784332799@nbccongress.org
SUMMARY:SAVE THE DATE: IBCS Summer 2026 Date Announced
DESCRIPTION:The Institute for Black Catholic Studies has announced the date for the Summer 2026 program. \nThe theme is “…those who wait on the Lord will renew their strength…” Isaiah 40:31
URL:https://nbccongress.org/event/save-the-date-ibcs-summer-2026-date-announced/
LOCATION:Institute for Black Catholic Studies\, 1 Drexel Drive\, New Orleans\, LA\, 70125\, United States
ATTACH;FMTTYPE=image/jpeg:https://nbccongress.org/wp-content/uploads/2026/01/post-card-01-1-scaled.jpg
END:VEVENT
BEGIN:VEVENT
DTSTART;VALUE=DATE:20260702
DTEND;VALUE=DATE:20260706
DTSTAMP:20260419T143719
CREATED:20260325T155052Z
LAST-MODIFIED:20260325T155600Z
UID:10000576-1782950400-1783295999@nbccongress.org
SUMMARY:National Eucharistic Pilgrimage
DESCRIPTION:Pilgrimage culminates at the Cathedral Basilica of Saints Peter and Paul\nin Philadelphia\, PA \nJuly 2-5\, 2026 \n\nHoly Mass\nEucharistic Procession\nContinuous Eucharistic\nAdoration at the Cathedral\nService Events\nand more!\n\nSchedule of events & adoration signups at archphila.org/underGod
URL:https://nbccongress.org/event/national-eucharistic-pilgrimage/
LOCATION:Cathedral Basilica of Saints Peter and Paul\, 18th Street & Benjamin Franklin Parkway\, Philadelphia\, PA\, 19103\, United States
ATTACH;FMTTYPE=application/pdf:https://nbccongress.org/wp-content/uploads/2026/03/nepflyer5.pdf
END:VEVENT
BEGIN:VEVENT
DTSTART;VALUE=DATE:20260723
DTEND;VALUE=DATE:20260727
DTSTAMP:20260419T143719
CREATED:20260223T212810Z
LAST-MODIFIED:20260223T212916Z
UID:10000511-1784764800-1785110399@nbccongress.org
SUMMARY:Hallelujah Workshop 2026
DESCRIPTION:Xavier University Institute for Black Catholic Studies presents Hallelujah Workshop 2026. Come be restored! \nThe theme is Divinity\, Calling us to the Wholeness of Mind\, Body\, Spirit and Justice. \nPre-registration will take place during the Lenten season\, from February 18 through April 6\, 2026.
URL:https://nbccongress.org/event/hallelujah-workshop-2026/
LOCATION:Xavier University of Louisiana\, 1 Drexel Dr.\, New Orleans\, LA\, 70125\, United States
ATTACH;FMTTYPE=application/pdf:https://nbccongress.org/wp-content/uploads/2026/02/2026-Final-Combined-IBCS-Brochure.pdf
END:VEVENT
BEGIN:VEVENT
DTSTART;VALUE=DATE:20261013
DTEND;VALUE=DATE:20261016
DTSTAMP:20260419T143719
CREATED:20260126T181407Z
LAST-MODIFIED:20260126T181559Z
UID:10000500-1791849600-1792108799@nbccongress.org
SUMMARY:Witnessing to the Light of Christ—  ﻿“the Way\, the Truth\, and the  Life.”  Evangelization Summit 2026
DESCRIPTION:SAVE THE DATE: \nThe Committee on Evangelization and Catechesis will convene an Evangelization Summit on October 13–15\, 2026\, at Marian University in Indianapolis\, Indiana. \n\n\n\n\n\n\n\nVISION: Responding to the call of the Holy Spirit\, the Evangelization Summit will be an opportunity for attendees to reflect on and re-examine the state of evangelization for the Catholic Church in the U.S.—where the Church in the U.S. is bearing fruit in evangelization\, and where she is striving to live her essential mission\n\n\n\n\n\n\n\nRegistration and additional details available by mid-March 2026.
URL:https://nbccongress.org/event/witnessing-to-the-light-of-christ-the-way-the-truth-and-the-life-evangelization-summit-2026/
LOCATION:Marian University in Indianapolis\, Indiana\, 3200 Cold Spring Rd.\, Indianapolis\, IN\, 46222\, United States
ATTACH;FMTTYPE=image/png:https://nbccongress.org/wp-content/uploads/2026/01/Screen-Shot-2026-01-26-at-1.15.04-PM-e1769451352318.png
END:VEVENT
BEGIN:VEVENT
DTSTART;VALUE=DATE:20261015
DTEND;VALUE=DATE:20261019
DTSTAMP:20260419T143719
CREATED:20260316T131032Z
LAST-MODIFIED:20260316T132441Z
UID:10000572-1792022400-1792367999@nbccongress.org
SUMMARY:2026 Fr. Chester P. Smith National Black Catholic Men's Conference- Birmingham\, AL
DESCRIPTION:The Rock I Stand On\, The Strength Behind It All\nMatt 7:24-27 \nTime & Location \n\n\nOct 15\, 2026\, 5:00 PM EDT – Oct 18\, 2026\, 10:00 AM EDT \nSheraton Birmingham Hotel\, 2101 Richard Arrington Jr Blvd N\, Birmingham\, AL 35203\, USA \n\n\n\nAbout The Event \n\n\n\nREGISTRATION FEE: \n Adult – $195.00 (Lenten Special Registration Price); $215 Starting April 6 \n$150.00 Youth age 10-17 \nFOR ROOM HOTEL RESERVATIONS: Hotel Room Must Be Booked By September 1 (NO Exceptions) \n \nHOTEL BOOKING INFORMATION \nSheraton Birmingham Hotel
URL:https://nbccongress.org/event/2026-fr-chester-p-smith-national-black-catholic-mens-conference-birmingham-al/
LOCATION:Sheraton Birmingham Hotel\, 2101 Richard Arrington Jr Blvd N\, Birmingham\, AL\, 35203\, United States
ATTACH;FMTTYPE=image/png:https://nbccongress.org/wp-content/uploads/2026/03/65d38a19-2bb1-4986-889c-46b123c790cc.png
END:VEVENT
BEGIN:VEVENT
DTSTART;VALUE=DATE:20270803
DTEND;VALUE=DATE:20270809
DTSTAMP:20260419T143719
CREATED:20250804T203925Z
LAST-MODIFIED:20250804T203925Z
UID:10000430-1817251200-1817769599@nbccongress.org
SUMMARY:SAVE THE DATE: World Youth Day 2027 in Seoul
DESCRIPTION:The theme for WYD 2027 was unveiled by the Holy See on 24 September 2024:\n“Take courage! I have overcome the world” (John 16:33). \nThis will mark the first occasion that Korea hosts the global gathering\, and only the second time the event has been held in Asia—following the 1995 Manila celebration—while being the first ever in a Christian‑minority country. \nFor more information: https://wydseoul.org/en
URL:https://nbccongress.org/event/save-the-date-world-youth-day-2027-in-seoul/
LOCATION:DC
ATTACH;FMTTYPE=image/jpeg:https://nbccongress.org/wp-content/uploads/2025/08/popup_en.jpg
END:VEVENT
END:VCALENDAR